BEGIN:VCALENDAR
VERSION:2.0
PRODID:awak.at
CALSCALE:GREGORIAN
METHOD:PUBLISH
BEGIN:VTIMEZONE
TZID:UTCTime
BEGIN:STANDARD
DTSTART:19671028T030000Z
RRULE:FREQ=YEARLY;BYDAY=-1SU;BYMONTH=10
TZOFFSETFROM:+0100
TZOFFSETTO:+0000
END:STANDARD
BEGIN:DAYLIGHT
DTSTART:19870325T020000Z
RRULE:FREQ=YEARLY;BYDAY=1SU;BYMONTH=3
TZOFFSETFROM:+0000
TZOFFSETTO:+0000
END:DAYLIGHT
END:VTIMEZONE
BEGIN:VEVENT
DTSTART;TZID=UTCTime:20261212T070000Z
DTEND;TZID=UTCTime:20261212T220000Z
SUMMARY:(20261212-1) Hybrid Z
LOCATION:Schloss Fuschl Resort & SPA (5322 Hof bei Salzburg, Schloss Strasse 19)
X-ALT-DESC;FMTTYPE=text/html:<p>09-12: sdgjkdgkdjg</p><p>13-17: ojspdfks</p><p>18-22: nsdfjlskgnlkgnlsld</p>
PRIORITY:3
END:VEVENT
END:VCALENDAR
